BEGIN:VCALENDAR
VERSION:2.0
PRODID:-//178.254.10.73//NONSGML kigkonsult.se iCalcreator 2.20//
CALSCALE:GREGORIAN
METHOD:PUBLISH
X-WR-TIMEZONE:Europe/Berlin
BEGIN:VEVENT
UID:event14@Musikverein Adelhausen
DTSTAMP:20260424T150919Z
CATEGORIES:Auftritte
DESCRIPTION:Auftritt Erdbeer- und Spargelfest in Wyhlen\nKategorie: Auftrit
 te\nICS-Link: https://musikverein-adelhausen.de/index.php?option=com_jem&v
 iew=event&id=14:auftritt-erdbeer-und-spargelfest-in-wyhlen\n
DTSTART;TZID=Europe/Berlin:20260607T110000
DTEND;TZID=Europe/Berlin:20260607T110000
SUMMARY:Auftritt Erdbeer- und Spargelfest in Wyhlen
URL:https://musikverein-adelhausen.de/index.php?option=com_jem&view=event&i
 d=14:auftritt-erdbeer-und-spargelfest-in-wyhlen
END:VEVENT
END:VCALENDAR