BEGIN:VCALENDAR
VERSION:2.0
PRODID:-//178.254.10.73//NONSGML kigkonsult.se iCalcreator 2.20//
CALSCALE:GREGORIAN
METHOD:PUBLISH
X-WR-TIMEZONE:Europe/Berlin
BEGIN:VEVENT
UID:event15@Musikverein Adelhausen
DTSTAMP:20260424T150928Z
CATEGORIES:Auftritte
DESCRIPTION:Jahreskonzert Musikverein Adelhausen\nKategorie: Auftritte\nICS
 -Link: https://musikverein-adelhausen.de/index.php?option=com_jem&view=eve
 nt&id=15:jahreskonzert-musikverein-adelhausen\n
DTSTART;TZID=Europe/Berlin:20261212T200000
DTEND;TZID=Europe/Berlin:20261212T200000
LOCATION:Adelhausen\, Dinkelberghalle
SUMMARY:Jahreskonzert Musikverein Adelhausen
URL:https://musikverein-adelhausen.de/index.php?option=com_jem&view=event&i
 d=15:jahreskonzert-musikverein-adelhausen
END:VEVENT
END:VCALENDAR