BEGIN:VCALENDAR
VERSION:2.0
PRODID:-//178.254.10.73//NONSGML kigkonsult.se iCalcreator 2.20//
CALSCALE:GREGORIAN
METHOD:PUBLISH
X-WR-TIMEZONE:Europe/Berlin
BEGIN:VEVENT
UID:event16@Musikverein Adelhausen
DTSTAMP:20260424T150748Z
CATEGORIES:Auftritte
DESCRIPTION:Auftritt Eichsler Umgang\nKategorie: Auftritte\nICS-Link: https
 ://musikverein-adelhausen.de/index.php?option=com_jem&view=event&id=16:auf
 tritt-eichsler-umgang\n
DTSTART;TZID=Europe/Berlin:20260719T140000
DTEND;TZID=Europe/Berlin:20260719T140000
SUMMARY:Auftritt Eichsler Umgang
URL:https://musikverein-adelhausen.de/index.php?option=com_jem&view=event&i
 d=16:auftritt-eichsler-umgang
END:VEVENT
END:VCALENDAR