BEGIN:VCALENDAR
VERSION:2.0
PRODID:-//178.254.10.73//NONSGML kigkonsult.se iCalcreator 2.20//
CALSCALE:GREGORIAN
METHOD:PUBLISH
X-WR-TIMEZONE:Europe/Berlin
BEGIN:VEVENT
UID:event4@Musikverein Adelhausen
DTSTAMP:20260424T150420Z
CATEGORIES:Auftritte
DESCRIPTION:1.Mai Dorffest\nKategorie: Auftritte\nICS-Link: https://musikve
 rein-adelhausen.de/index.php?option=com_jem&view=event&id=4:1-mai-dorffest
 \n
DTSTART;VALUE=DATE:20260501
DTEND;VALUE=DATE:20260502
SUMMARY:1.Mai Dorffest
URL:https://musikverein-adelhausen.de/index.php?option=com_jem&view=event&i
 d=4:1-mai-dorffest
END:VEVENT
END:VCALENDAR